BEGIN:VCALENDAR
VERSION:2.0
PRODID:-//fritidskajakker - ECPv6.15.20//NONSGML v1.0//EN
CALSCALE:GREGORIAN
METHOD:PUBLISH
X-WR-CALNAME:fritidskajakker
X-ORIGINAL-URL:https://www.fritidskajakker.dk
X-WR-CALDESC:Begivenheder for fritidskajakker
REFRESH-INTERVAL;VALUE=DURATION:PT1H
X-Robots-Tag:noindex
X-PUBLISHED-TTL:PT1H
BEGIN:VTIMEZONE
TZID:Europe/Copenhagen
BEGIN:DAYLIGHT
TZOFFSETFROM:+0100
TZOFFSETTO:+0200
TZNAME:CEST
DTSTART:20250330T010000
END:DAYLIGHT
BEGIN:STANDARD
TZOFFSETFROM:+0200
TZOFFSETTO:+0100
TZNAME:CET
DTSTART:20251026T010000
END:STANDARD
BEGIN:DAYLIGHT
TZOFFSETFROM:+0100
TZOFFSETTO:+0200
TZNAME:CEST
DTSTART:20260329T010000
END:DAYLIGHT
BEGIN:STANDARD
TZOFFSETFROM:+0200
TZOFFSETTO:+0100
TZNAME:CET
DTSTART:20261025T010000
END:STANDARD
BEGIN:DAYLIGHT
TZOFFSETFROM:+0100
TZOFFSETTO:+0200
TZNAME:CEST
DTSTART:20270328T010000
END:DAYLIGHT
BEGIN:STANDARD
TZOFFSETFROM:+0200
TZOFFSETTO:+0100
TZNAME:CET
DTSTART:20271031T010000
END:STANDARD
END:VTIMEZONE
BEGIN:VEVENT
DTSTART;TZID=Europe/Copenhagen:20260514T080000
DTEND;TZID=Europe/Copenhagen:20260517T180000
DTSTAMP:20260424T134756
CREATED:20260119T195130Z
LAST-MODIFIED:20260208T111843Z
UID:10000413-1778745600-1779040800@www.fritidskajakker.dk
SUMMARY:Langeland rundt på 4 dage
DESCRIPTION:Rundt om Langeland i Havkajak – ROL 2026 – på 4 dage – inkl fuld forplejning \nOplev Langelands smukke kyst fra din kajak I UNESCO Geopark Det Sydfynske Øhav \nI 2026 afvikles “Rundt om Langeland i kajak” fra den 14. maj til den 17. maj i – det er i Kr. Himmelfartsdagene. \n“Rundt om Langeland i kajak” \nOnsdag den 13. maj\, Rudkøbing\nMulighed for at ankomme og overnatte i Rudkøbing inden start torsdag \nTorsdag den 14. maj\, Rudkøbing – Bagenkop\, 26 km\nOvernatning i telt ved Strandgården Camping\, Bagenkop \nFredag den 15 maj\, Bagenkop – Spodsbjerg\, 30 km\nOvernatning på Færgegårdens Camping\, Spodsbjerg \nLørdag den 16. maj\, Spodsbjerg – Lohals. 32 km\nOvernatning på Lohals Camping\, Lohals \nSøndag den 17. maj\, Lohals – Rudkøbing\, 27 km\nAfslutning i Rudkøbing af “Rundt om Langeland i Kajak” og præmieoverrækkelse \nUdstyr\nDit udstyr bliver transporteret mellem overnatningsstederne\, dog maks. en taske pr. deltager. \nUnder hele turen vil der være forplejning morgen\, middag og aften\, plus snacks til alle fire etaper\, checkpoints\, bad/toilet/sauna i målområderne og så er der selvfølgelig præmie til første kajakroer over mållinjen. \nDet eneste du selv skal sørge for er \n\nHavkajak med udstyr\nTelt\nLiggeunderlag og sovepose\nSkiftetøj\, toiletgrej og håndklæde\n\nKontakt arrangørgruppen\, Frederik Laursen\, mobil6072 3900 eller skriv en mail til   info@kajakfriluftsliv.com \nHent det fulde program og beskrivelse   HER
URL:https://www.fritidskajakker.dk/oplevelser/langeland-rundt-paa-4-dage/
LOCATION:Rudkøbing\, Rudkøbing Havn\, Rudkøbing\, 5900\, Denmark
CATEGORIES:Guidede kajakture,Kajakture
ATTACH;FMTTYPE=image/jpeg:https://www.fritidskajakker.dk/wp-content/uploads/2026/01/Langeland.jpg
ORGANIZER;CN="Kajak og Friluftsliv":MAILTO:point65denmark@gmail.com
END:VEVENT
END:VCALENDAR