BEGIN:VCALENDAR
VERSION:2.0
PRODID:-//fritidskajakker - ECPv6.15.20//NONSGML v1.0//EN
CALSCALE:GREGORIAN
METHOD:PUBLISH
X-ORIGINAL-URL:https://www.fritidskajakker.dk
X-WR-CALDESC:Begivenheder for fritidskajakker
REFRESH-INTERVAL;VALUE=DURATION:PT1H
X-Robots-Tag:noindex
X-PUBLISHED-TTL:PT1H
BEGIN:VTIMEZONE
TZID:Europe/Copenhagen
BEGIN:DAYLIGHT
TZOFFSETFROM:+0100
TZOFFSETTO:+0200
TZNAME:CEST
DTSTART:20240331T010000
END:DAYLIGHT
BEGIN:STANDARD
TZOFFSETFROM:+0200
TZOFFSETTO:+0100
TZNAME:CET
DTSTART:20241027T010000
END:STANDARD
BEGIN:DAYLIGHT
TZOFFSETFROM:+0100
TZOFFSETTO:+0200
TZNAME:CEST
DTSTART:20250330T010000
END:DAYLIGHT
BEGIN:STANDARD
TZOFFSETFROM:+0200
TZOFFSETTO:+0100
TZNAME:CET
DTSTART:20251026T010000
END:STANDARD
BEGIN:DAYLIGHT
TZOFFSETFROM:+0100
TZOFFSETTO:+0200
TZNAME:CEST
DTSTART:20260329T010000
END:DAYLIGHT
BEGIN:STANDARD
TZOFFSETFROM:+0200
TZOFFSETTO:+0100
TZNAME:CET
DTSTART:20261025T010000
END:STANDARD
END:VTIMEZONE
BEGIN:VEVENT
DTSTART;TZID=Europe/Copenhagen:20251106T100000
DTEND;TZID=Europe/Copenhagen:20251106T150000
DTSTAMP:20260422T150003
CREATED:20251004T151423Z
LAST-MODIFIED:20251103T091652Z
UID:10000404-1762423200-1762441200@www.fritidskajakker.dk
SUMMARY:Kajaktur rundt i Sydhavnen
DESCRIPTION:Ro med på opdagelse i Københavns nye kanaler\, turen er flyttet til torsdag d. 6. november hvor DMI forventer svag vind omkring 3 m/s \nVi starter fra Tømmergraven ved Fisketorvet. Ror ned Frederiks Brygge\, rundt om Teglholmen og ind igennem labyrinten af kanaler på Sluseholmen til Naturpark Amager Havneslusen Nord\, hvor vi spiser frokost (og hvor der er toiletter). \nDenne tur er er langsom sightseeingtur hvor vi oplever den drøm om kanalkvarterer\, der har fået tusindvis til at flytte til de nye kvarterer i Københavns Sydhavn. \nDet bliver en rigtig bytur. \nDetaljer om parkering ved Fisketorvet og pauser undervejs kommer med turbeskrivelsen\, når du har tilmeldt dig. \nTuren gennemføres kun i godt vejr med max vind på 4 m/s og minimale regnbyger. Evt aflysning udsendes onsdag d. 5. nov kl 13. \nTilmeldingsfrist for deltagelse i lejet kajak: onsdag d. 5. nov. kl 13 \nTilmeldingsfrist for deltagelse i egen kajak: onsdag d. 5.nov. kl 21 \nAfbud frem til en time før turstart. \nAlle betalinger returneres ved aflysning og afbud. \n 
URL:https://www.fritidskajakker.dk/oplevelser/kajaktur-rundt-i-sydhavnen/
LOCATION:Tømmergraven\, Nelson Mandelas Allé 5\, 2450\, København SV\, 2450
CATEGORIES:Guidede kajakture
ATTACH;FMTTYPE=image/jpeg:https://www.fritidskajakker.dk/wp-content/uploads/2025/10/Sydhavnen.jpg
ORGANIZER;CN="Fritidskajakker":MAILTO:info@fritidskajakker.dk
END:VEVENT
BEGIN:VEVENT
DTSTART;TZID=Europe/Copenhagen:20251108T100000
DTEND;TZID=Europe/Copenhagen:20251108T153000
DTSTAMP:20260422T150003
CREATED:20251103T103159Z
LAST-MODIFIED:20251103T104521Z
UID:10000405-1762596000-1762615800@www.fritidskajakker.dk
SUMMARY:Kajaktur fra Holbæk Marina til Løserup Strand
DESCRIPTION:Kajaktur fra Holbæk Marina til Løserup Strand. \nEn kajaktur på Isefjorden mellem Tuse Næs og Orø. En ret ukendt del af Isefjorden\, hvor vi ror rundt om Bognæs skoven\, kigger ind i Udby Vig og op langs Hønsehals skoven til Løserup Strand. \nFrokost på Løserup Strand og så tilbage til Holbæk Marina. \nTuren er kystnær undtagen krydset over Holbæk Fjord. Vi krydser fjorden hvor den er smallest\, fra Kirsebærholmen til Bognæs. Vindretningen skulle blive gunstig for dette kryds. \nTuren er på ca 16 km\, men kan sagtens forkortes og der er nemme pausesteder ved skovene. \nTemperaturen forventes at bliver 9-10 grader med vind på omkring 3 m/s\, så vi skal have varmt tøj på og varmt tøj/tæppe med til frokostpausen. \nDeltagere kan leje nyvasket 3mm neopren jakke og bukser for 100 kr. Mail ønsket størrelse til info@fritidskajakker.dk \n\nTilmeldingsfrist for deltagere i lejede kajakker: Fredag d. 6. nov. kl 13\nTilmeldingsfrist for deltagere i egne kajakker: Fredag d. 6. nov. kl 21\nAfbud senest en time før tur start\nEvt. aflysning af turen: Fredag d. 6. nov. kl 13.\nAlle betalinger refunderes ved aflysning og afbud.\n\nTurbeskrivelse fremsendes efter tilmelding. \nHar du spørgsmål\, mail på info@fritidskajakker.dk \nNovember kajaktur
URL:https://www.fritidskajakker.dk/oplevelser/kajaktur-fra-holbaek-marina-til-loeserup-strand/
LOCATION:Holbæk Marina\, Strandmøllevej 249\, Holbæk\, 4300
CATEGORIES:Guidede kajakture
ATTACH;FMTTYPE=image/jpeg:https://www.fritidskajakker.dk/wp-content/uploads/2025/11/Holbaek-Loeserup.jpg
ORGANIZER;CN="Fritidskajakker":MAILTO:info@fritidskajakker.dk
END:VEVENT
END:VCALENDAR