BEGIN:VCALENDAR
VERSION:2.0
PRODID:-//fritidskajakker - ECPv6.15.20//NONSGML v1.0//EN
CALSCALE:GREGORIAN
METHOD:PUBLISH
X-WR-CALNAME:fritidskajakker
X-ORIGINAL-URL:https://www.fritidskajakker.dk
X-WR-CALDESC:Begivenheder for fritidskajakker
REFRESH-INTERVAL;VALUE=DURATION:PT1H
X-Robots-Tag:noindex
X-PUBLISHED-TTL:PT1H
BEGIN:VTIMEZONE
TZID:Europe/Copenhagen
BEGIN:DAYLIGHT
TZOFFSETFROM:+0100
TZOFFSETTO:+0200
TZNAME:CEST
DTSTART:20250330T010000
END:DAYLIGHT
BEGIN:STANDARD
TZOFFSETFROM:+0200
TZOFFSETTO:+0100
TZNAME:CET
DTSTART:20251026T010000
END:STANDARD
BEGIN:DAYLIGHT
TZOFFSETFROM:+0100
TZOFFSETTO:+0200
TZNAME:CEST
DTSTART:20260329T010000
END:DAYLIGHT
BEGIN:STANDARD
TZOFFSETFROM:+0200
TZOFFSETTO:+0100
TZNAME:CET
DTSTART:20261025T010000
END:STANDARD
BEGIN:DAYLIGHT
TZOFFSETFROM:+0100
TZOFFSETTO:+0200
TZNAME:CEST
DTSTART:20270328T010000
END:DAYLIGHT
BEGIN:STANDARD
TZOFFSETFROM:+0200
TZOFFSETTO:+0100
TZNAME:CET
DTSTART:20271031T010000
END:STANDARD
END:VTIMEZONE
BEGIN:VEVENT
DTSTART;TZID=Europe/Copenhagen:20260519T100000
DTEND;TZID=Europe/Copenhagen:20260519T153000
DTSTAMP:20260422T132652
CREATED:20260130T194554Z
LAST-MODIFIED:20260208T111701Z
UID:10000419-1779184800-1779204600@www.fritidskajakker.dk
SUMMARY:Senior kajaktur fra Jyllinge Marina til Skuldelev Havn.
DESCRIPTION:Turen starter fra kajakbroerne i Jyllinge Marina og går nordpå mellem Lilleø og Jylling by\, langs Jyllinge Nordmark til Slusen ved Værebro Å. Herfra ror vi til Lille Rørbæk Enge og krydser Roskilde Fjord over til Skuldelev Havn. \nTilbageturen er langs Hornsherred\, forbi Hyllingeris til Eskildsø. Afhængigt af vejr og kræfter krydser vi ind mellem Eskildsø og holmene eller ror syd om Eskildsø tilbage til Jyllinge Marina. \nTuren er kystnær og det meste af tiden på lavt vand. Der er et kryds på 1 km over Roskilde fjord ved Skuldelev og ved Eskildsø. \nDer er pause ved Værebro Å og frokost på Skuldelev Havn. \nMålgruppe: \n\nAlle der har roet kajak kan deltage. Har du aldrig roet kajak\, så start med ”min første kajaktur”.\nTuren er en oplevelsestur i langsomt til moderat tempo og med en sværhedsgrad på 1 ud af 3 (hvor 3 er sværest).\n\nTurens længde er ca 16-18 km \nAlternativ tur hvis vinden driller: Jyllinge til Gershøj \nIsætning: \n\nIsætning er fra kajakbro eller strand både i Jyllinge Marina og Skuldelev Havn\n\nTider: \n\n9.30: kom og få dit udstyr og indstil kajakken\, hvis du har lejet en kajak til turen\n9.45: kom og sæt din kajak\, hvis du har egen kajak med\n10.00: turbriefing\, præsentationsrunde og en kop kaffe med en croissant\n10.30: vi ror ud af havnen\n\nFaciliteter: \n\nJyllinge Marina: god parkering og toiletter.\nSkuldelev Havn: borde og bænke – samt toiletter\n\nBeklædning: \n\nDeltagere i lejet kajak: Du får udleveret svømmevest\, vandtæt pose\, neoprensko og handsker. Har du neopren våddragt\, – bluse eller -bukser\,  benytter du selvfølgelig det. Ellers kom i sportstøj\, lag på lag og yderst en vindbreaker eller regnjakke og regnbukser – samt en sweater eller lign. til frokostpausen.\nDeltagere i egne kajakker: kom i hvad du finder hensigtsmæssigt og medbring en sweater ell. lign til frokostpausen.\nAlle kan leje en 3 mm neopren jakke og neopren bukser for 50 kr. Det giver samme varme som en våddragt\, men er mere bekvemt.\n\nUdlejningskajakker: \n\nStandard udlejningskajakker er brede\, stabile plastkajakker som fx. Buran 430 til roere op til 1.70 i højden\, FIT 147 til højere roere op til 185\, Nifty 440 til højere roere op til 195 og Buran 488 til roere over 195 og vægt over 120 kg.\nFritidskajakker kan være bedst egnet\, hvis du kun har erfaring fra ganske få ture eller det er lang tid siden du sidst roede. De kræver blot flere kræfter. Spørg hvis du er i tvivl.\nDelta kajakker er til roere der vil have en lettere og mere komfortabel kajak\, som ikke kræver så mange kræfter\, men til gengæld er lidt smallere end de almindelige plastkajakker. Du kan vælge mellem Delta 14\, 15s\, 16 eller 17.\n\nPraktisk: \n\nAlle tilmeldte får en mere detaljeret turbeskrivelse og sikkerhedsinstruks senest dagen før turen.\nTuren gennemføres kun i godt vejr\, dvs vind under 4 m/s\, ingen heldagsregn og ikke udsigt til tordenvejr.\nHvis vindretningen betyder at det bliver en sværere tur\, kan Fritidskajakker tilbyde den alternative tur. Deltagerne kan så tage stilling til om de vil deltage på den tur.\nDeltagerne kan aflyse deres deltagelse frem til turstart. Alle betalinger refunderes.\nHvis Fritidskajakker aflyser turen bliver alle betalinger refunderet.\nNår du bestiller turen\, reserverer NETS beløbet på din konto. Fritidskajakker hæver først betalingen når turen er gennemført.\nSpørgsmål: skriv til info@fritidskajakker.dk eller sms på 30717225.
URL:https://www.fritidskajakker.dk/oplevelser/senior-kajaktur-fra-jyllinge-marina-til-skuldelev-havn/
LOCATION:Jyllinge Marina\, Strandpromenaden 6\, Jyllinge\, 4040\, Denmark
CATEGORIES:Guidede kajakture,Kajakture
ATTACH;FMTTYPE=image/jpeg:https://www.fritidskajakker.dk/wp-content/uploads/2026/01/Jyllinge-2026.jpg
ORGANIZER;CN="Fritidskajakker":MAILTO:info@fritidskajakker.dk
END:VEVENT
BEGIN:VEVENT
DTSTART;TZID=Europe/Copenhagen:20260519T183000
DTEND;TZID=Europe/Copenhagen:20260519T220000
DTSTAMP:20260422T132652
CREATED:20260202T150203Z
LAST-MODIFIED:20260208T111746Z
UID:10000431-1779215400-1779228000@www.fritidskajakker.dk
SUMMARY:Guidet kajaktur på Roskilde Fjord
DESCRIPTION:🍀 Skøn guidet kajaktur på Roskilde fjord for alle med bare lidt kajakerfaring 🍀\n\n\n\n🍀 Natur\, ro og aktivt fællesskab 🍀\n\n\n\n\n\n\n\n🍀 Trygge rammer med instruktør 🍀\n\n\n\n\n\n\n🍀 Start og slut ved Vigen strandpark i Roskilde🍀\n\n\n\n\n\n\n\n\nHer er mulighed for at komme ud og ro i kajak i trygge rammer med en instruktør.\nVi ror ud i Nationalpark Skjoldungernes Land som vind og vejr tillader det\, og ser på noget af den storslået natur som findes. Imens er der rig lejlighed til at nyde turen\, roen\, duftene\, lydene og måske få opfrisket og øvet kajakteknikken.\n\n\n\n\n\n\nPris: kr. 275\,- per person\,\n\nInklusiv kajak\, pagaj og svømmevest\, uddannet kajakinstruktør & fællesskab med andre aktive naturelskere.\nMaks 9 deltagere på denne tur. \n\n\nMødetid: 15 minutter før starttidspunkt\n\n\n\nMødested: Vigen Strandpark\, Outdoor Adventures camp\, Baunehøjvej 7\, 4000 Roskilde\, Gratis parkering ved strandparken.\n\n\nVarighed: ca. 2\,5 time\n\n\nSværhed: niveau 1 ud af 5 – alle der har lidt erfaring med kajak\, er trygge ved vand og kan svømme 50 meter kan deltage. 🌱\nHar du aldrig roet kajak før\, kan vi henvise til vores 3 timers kajakkursus for begyndere. Se mere her: www.outdooradventures.dk/kajakkursus-i-roskilde/\n\n\nMedbring: Sportstøj til at bevæge sig i\, og tilpasset vejret. Gerne snacks til at spise på vandet og ved pause.\n\n\n\nArrangør: Outdoor Adventures\n\nTilmelding direkte hos Outdoor Adventures: Guidet kajaktur på Roskilde fjord\n\n\n\n\nSpørgsmål stilles til Lars på telefon 5389 0585
URL:https://www.fritidskajakker.dk/oplevelser/guidet-kajaktur-paa-roskilde-fjord/2026-05-19/
LOCATION:Vigen Strandpark\, Baunehøjvej 7\, Roskilde\, 4000\, Denmark
CATEGORIES:Guidede kajakture,Kajakture
ATTACH;FMTTYPE=image/jpeg:https://www.fritidskajakker.dk/wp-content/uploads/2026/02/Roskilde-fjord-26-20240531_202350.jpg
ORGANIZER;CN="Outdoor Adventures":MAILTO:kontakt@outdooradventures.dk
END:VEVENT
BEGIN:VEVENT
DTSTART;TZID=Europe/Copenhagen:20260521T100000
DTEND;TZID=Europe/Copenhagen:20260521T130000
DTSTAMP:20260422T132652
CREATED:20260208T104959Z
LAST-MODIFIED:20260208T104959Z
UID:10000427-1779357600-1779368400@www.fritidskajakker.dk
SUMMARY:Min første kajaktur
DESCRIPTION:Er du nysgerrig efter at prøve at ro kajak ? \n”Min første kajaktur” er for begyndere\, der aldrig har siddet i en kajak – eller måske har lejet en sit-on-top kajak på en badestrand sydpå. \nVi tager dig med ud på en kajaktur på Roskilde Fjord\, så du kan prøve både naturoplevelsen\, motionen og det sociale liv på en kajaktur. \nPå “Min første kajaktur” viser vi dig hvordan du styrer og bremser kajakken\, hvordan du kommer ned i kajakken og op igen og hvordan du får en rimelig fart på kajakken.  Du får en stabil kajak\, så du skal ikke prøve kæntring og redning på denne tur. \nDu behøver ingen forudsætninger\, ingen kurser\, ingen svømmeprøver – blot lysten til at prøve at komme på vandet i en kajak. \nNår du har deltaget på en eller flere ”min første kajaktur”  kan du tage med på guidede kajakture\, vælge at tage et introduktionskursus\, melde dig ind i en kajakklub – eller du har fundet ud af at det ikke er noget for dig. \n\nHver tur varer 3 timer  og der er max 4 deltagere pr tur.\nVi starter og slutter fra Roskilde Sejlklub\, Strandgade 12\, hvor der er toilet og omklædningsrum.\nTuren gennemføres kun i godt vejr\, dvs vind max 4 m/s og ingen regn.\nDu kan aflyse frem til turstart og får din bestilling tilbagebetalt\nFritidskajakker kan aflyse en dag før turstart og du får din bestilling tilbagebetalt.\n\nSpørgsmål: mail til info@fritidskajakker.dk
URL:https://www.fritidskajakker.dk/oplevelser/min-foerste-kajaktur-7/
LOCATION:Roskilde Sejlklub\, Strandgade 12\, Roskilde\, 4000\, Danmark
CATEGORIES:Guidede kajakture,Kajakkurser,Kajakture,Prøv en kajak - events
ATTACH;FMTTYPE=image/jpeg:https://www.fritidskajakker.dk/wp-content/uploads/2026/01/Din-foerste-kajaktur-2-scaled.jpg
ORGANIZER;CN="Fritidskajakker":MAILTO:info@fritidskajakker.dk
END:VEVENT
END:VCALENDAR