BEGIN:VCALENDAR
VERSION:2.0
PRODID:-//fritidskajakker - ECPv6.15.20//NONSGML v1.0//EN
CALSCALE:GREGORIAN
METHOD:PUBLISH
X-ORIGINAL-URL:https://www.fritidskajakker.dk
X-WR-CALDESC:Begivenheder for fritidskajakker
REFRESH-INTERVAL;VALUE=DURATION:PT1H
X-Robots-Tag:noindex
X-PUBLISHED-TTL:PT1H
BEGIN:VTIMEZONE
TZID:Europe/Copenhagen
BEGIN:DAYLIGHT
TZOFFSETFROM:+0100
TZOFFSETTO:+0200
TZNAME:CEST
DTSTART:20250330T010000
END:DAYLIGHT
BEGIN:STANDARD
TZOFFSETFROM:+0200
TZOFFSETTO:+0100
TZNAME:CET
DTSTART:20251026T010000
END:STANDARD
BEGIN:DAYLIGHT
TZOFFSETFROM:+0100
TZOFFSETTO:+0200
TZNAME:CEST
DTSTART:20260329T010000
END:DAYLIGHT
BEGIN:STANDARD
TZOFFSETFROM:+0200
TZOFFSETTO:+0100
TZNAME:CET
DTSTART:20261025T010000
END:STANDARD
BEGIN:DAYLIGHT
TZOFFSETFROM:+0100
TZOFFSETTO:+0200
TZNAME:CEST
DTSTART:20270328T010000
END:DAYLIGHT
BEGIN:STANDARD
TZOFFSETFROM:+0200
TZOFFSETTO:+0100
TZNAME:CET
DTSTART:20271031T010000
END:STANDARD
END:VTIMEZONE
BEGIN:VEVENT
DTSTART;TZID=Europe/Copenhagen:20260601T100000
DTEND;TZID=Europe/Copenhagen:20260601T130000
DTSTAMP:20260422T121310
CREATED:20260220T160622Z
LAST-MODIFIED:20260220T160622Z
UID:10000435-1780308000-1780318800@www.fritidskajakker.dk
SUMMARY:Min første kajaktur
DESCRIPTION:Er du nysgerrig efter at prøve at ro kajak ? \n”Min første kajaktur” er for begyndere\, der aldrig har siddet i en kajak – eller måske har lejet en sit-on-top kajak på en badestrand sydpå. \nVi tager dig med ud på en kajaktur på Roskilde Fjord\, så du kan prøve både naturoplevelsen\, motionen og det sociale liv på en kajaktur. \nPå “Min første kajaktur” viser vi dig hvordan du styrer og bremser kajakken\, hvordan du kommer ned i kajakken og op igen og hvordan du får en rimelig fart på kajakken.  Du får en stabil kajak\, så du skal ikke prøve kæntring og redning på denne tur. \nDu behøver ingen forudsætninger\, ingen kurser\, ingen svømmeprøver – blot lysten til at prøve at komme på vandet i en kajak. \nNår du har deltaget på en eller flere ”min første kajaktur”  kan du tage med på guidede kajakture\, vælge at tage et introduktionskursus\, melde dig ind i en kajakklub – eller du har fundet ud af at det ikke er noget for dig. \n\nHver tur varer 3 timer  og der er max 4 deltagere pr tur.\nVi starter og slutter fra Roskilde Sejlklub\, Strandgade 12\, hvor der er toilet og omklædningsrum.\nTuren gennemføres kun i godt vejr\, dvs vind max 4 m/s og ingen regn.\nDu kan aflyse frem til turstart og får din bestilling tilbagebetalt\nFritidskajakker kan aflyse en dag før turstart og du får din bestilling tilbagebetalt.\n\nSpørgsmål: mail til info@fritidskajakker.dk
URL:https://www.fritidskajakker.dk/oplevelser/min-foerste-kajaktur-4/
LOCATION:Roskilde Sejlklub\, Strandgade 12\, Roskilde\, 4000\, Danmark
CATEGORIES:Guidede kajakture,Kajakkurser,Kajakture,Prøv en kajak - events
ATTACH;FMTTYPE=image/jpeg:https://www.fritidskajakker.dk/wp-content/uploads/2026/01/Din-foerste-kajaktur-2-scaled.jpg
ORGANIZER;CN="Fritidskajakker":MAILTO:info@fritidskajakker.dk
END:VEVENT
BEGIN:VEVENT
DTSTART;TZID=Europe/Copenhagen:20260602T100000
DTEND;TZID=Europe/Copenhagen:20260602T150000
DTSTAMP:20260422T121310
CREATED:20260223T214740Z
LAST-MODIFIED:20260224T102036Z
UID:10000442-1780394400-1780412400@www.fritidskajakker.dk
SUMMARY:Kajaktur på Arresø - første sommertur
DESCRIPTION:Den første sommertur går over Arresø fra Ramløse Havn ind i Frederiksværk og tilbage. Fra Ramløse Havn krydser vi Arresø til Auderød Skov\, fortsætter forbi Auderød Havn langs søkanten til Arresø kanal ind i Frederiksværk. Tilbageturen bliver et mere direkte kryds over Assesø fra Arresø kanal til Auderød Havn og videre til Ramløse Havn. \nTuren er kystnær med kryds over Arresø\, så den forudsætter godt vejr. Hvert kryds er på godt en kilometer. \nVi kan holde pause ved Auderød Havn og finder et frokoststed i Frederiksværk eller langs Arresø kanal. \nMålgruppe: \n\nAlle der har roet nogle ture i kajak kan deltage. Har du aldrig roet kajak\, så start med ”min første kajaktur”.\nTuren er en oplevelsestur i moderat tempo og med en sværhedsgrad på 1 – 2 ud af 3 (hvor 3 er sværest). Årsagen til sværhedsgrad 2 er at vinden kan drille på Arresø når vi skal krydse søen.\n\nTurens længde er ca 18 km – kan forlænges til 20 km hvis vejret er godt \nAlternativ tur hvis vinden driller: Marebæk til Skuldelev \nIsætning: \n\nIsætning er fra kajakbro i Ramløse Havn og i Frederiksværk/Arresø kanal\n\nTider: \n\n9.30: kom og få dit udstyr og indstil kajakken\, hvis du har lejet en kajak til turen\n9.45: kom og sæt din kajak\, hvis du har egen kajak med\n10.00: turbriefing\, præsentationsrunde og en kop kaffe med en croissant\n10.30: vi ror ud af havnen\n\nFaciliteter: \n\nRamløse Havn: god parkering\, borde og bænke samt toilet\nFrederiksværk / Arresø kanal: det ved vi ikke endnu\n\nBeklædning: \n\nDeltagere i lejet kajak: Du får udleveret svømmevest\, vandtæt pose\, neoprensko og handsker. Har du neopren våddragt\, – bluse eller -bukser\,  benytter du selvfølgelig det. Ellers kom i sportstøj\, lag på lag og yderst en vindbreaker eller regnjakke og regnbukser – samt en sweater eller lign. til frokostpausen.\nDeltagere i egne kajakker: kom i hvad du finder hensigtsmæssigt og medbring en sweater ell. lign til frokostpausen.\n\nUdlejningskajakker: \n\nStandard udlejningskajakker er brede\, stabile plasthavkajakker som fx. Buran 430 til roere op til 1.70 i højden\, FIT 147 til højere roere op til 185\, Nifty 440 til højere roere op til 195 og Buran 488 til roere over 195 og vægt over 120 kg. Fritidskajakker er for langsomme til denne tur.\nDelta kajakker er til roere der vil have en lettere og mere komfortabel kajak\, som ikke kræver så mange kræfter\, men til gengæld er lidt smallere end de almindelige plastkajakker. Du kan vælge mellem Delta 14\, 15s\, 16 og 17\n\nPraktisk: \n\nAlle tilmeldte får en mere detaljeret turbeskrivelse og sikkerhedsinstruks senest dagen før turen.\nTuren gennemføres kun i godt vejr\, dvs vind under 4 m/s\, ingen heldagsregn og ikke udsigt til tordenvejr.\nHvis vindretningen betyder at det bliver en sværere tur\, kan Fritidskajakker tilbyde den alternative tur. Deltagerne kan så tage stilling til om de vil deltage på den tur.\nDeltagerne kan aflyse deres deltagelse frem til turstart. Alle betalinger refunderes.\nHvis Fritidskajakker aflyser turen bliver alle betalinger refunderet.\nNår du bestiller turen\, reserverer NETS beløbet på din konto. Fritidskajakker hæver først betalingen når turen er gennemført.\nSpørgsmål: skriv til info@fritidskajakker.dk eller sms på 30717225.
URL:https://www.fritidskajakker.dk/oplevelser/kajaktur-paa-arresoe-foerste-sommertur/
LOCATION:Ramløse Havn\, Søkrogvej 61\, Helsinge\, 3200\, Denmark
CATEGORIES:Guidede kajakture,Kajakture
ATTACH;FMTTYPE=image/jpeg:https://www.fritidskajakker.dk/wp-content/uploads/2026/02/Arresoe-1.jpg
ORGANIZER;CN="Fritidskajakker":MAILTO:info@fritidskajakker.dk
END:VEVENT
BEGIN:VEVENT
DTSTART;TZID=Europe/Copenhagen:20260602T100000
DTEND;TZID=Europe/Copenhagen:20260602T150000
DTSTAMP:20260422T121310
CREATED:20260224T111714Z
LAST-MODIFIED:20260224T125213Z
UID:10000443-1780394400-1780412400@www.fritidskajakker.dk
SUMMARY:Kajaktur på Arresø - første sommertur
DESCRIPTION:Den første sommertur går over Arresø fra Ramløse Havn ind i Frederiksværk og tilbage. Fra Ramløse Havn krydser vi Arresø til Auderød Skov\, fortsætter forbi Auderød Havn langs søkanten til Arresø kanal ind i Frederiksværk. Tilbageturen bliver et mere direkte kryds over Assesø fra Arresø kanal til Auderød Havn og videre til Ramløse Havn. \nTuren er kystnær med kryds over Arresø\, så den forudsætter godt vejr. Hvert kryds er på 2-3 kilometer. \nVi kan holde pause ved Auderød Havn og finder et frokoststed i Frederiksværk eller langs Arresø kanal. \nMålgruppe: \n\nAlle der har roet nogle ture i kajak kan deltage. Har du aldrig roet kajak\, så start med ”min første kajaktur”.\nTuren er en oplevelsestur i moderat tempo og med en sværhedsgrad på 1 – 2 ud af 3 (hvor 3 er sværest). Årsagen til sværhedsgrad 2 er at vinden kan drille på Arresø når vi skal krydse søen.\n\nTurens længde er ca 18 km – kan forlænges til 20 km hvis vejret er godt \nAlternativ tur hvis vinden driller: Marebæk til Skuldelev \nIsætning: \n\nIsætning er fra kajakbro i Ramløse Havn og i Frederiksværk/Arresø kanal\n\nTider: \n\n9.30: kom og få dit udstyr og indstil kajakken\, hvis du har lejet en kajak til turen\n9.45: kom og sæt din kajak\, hvis du har egen kajak med\n10.00: turbriefing\, præsentationsrunde og en kop kaffe med en croissant\n10.30: vi ror ud af havnen\n\nFaciliteter: \n\nRamløse Havn: god parkering\, borde og bænke samt toilet\nFrederiksværk / Arresø kanal: det ved vi ikke endnu\n\nBeklædning: \n\nDeltagere i lejet kajak: Du får udleveret svømmevest\, vandtæt pose\, neoprensko og handsker. Har du neopren våddragt\, – bluse eller -bukser\,  benytter du selvfølgelig det. Ellers kom i sportstøj\, lag på lag og yderst en vindbreaker eller regnjakke og regnbukser – samt en sweater eller lign. til frokostpausen.\nDeltagere i egne kajakker: kom i hvad du finder hensigtsmæssigt og medbring en sweater ell. lign til frokostpausen.\n\nUdlejningskajakker: \n\nStandard udlejningskajakker er brede\, stabile plasthavkajakker som fx. Buran 430 til roere op til 1.70 i højden\, FIT 147 til højere roere op til 185\, Nifty 440 til højere roere op til 195 og Buran 488 til roere over 195 og vægt over 120 kg. Fritidskajakker er for langsomme til denne tur.\nDelta kajakker er til roere der vil have en lettere og mere komfortabel kajak\, som ikke kræver så mange kræfter\, men til gengæld er lidt smallere end de almindelige plastkajakker. Du kan vælge mellem Delta 14\, 15s\, 16 og 17\n\nPraktisk: \n\nAlle tilmeldte får en mere detaljeret turbeskrivelse og sikkerhedsinstruks senest dagen før turen.\nTuren gennemføres kun i godt vejr\, dvs vind under 4 m/s\, ingen heldagsregn og ikke udsigt til tordenvejr.\nHvis vindretningen betyder at det bliver en sværere tur\, kan Fritidskajakker tilbyde den alternative tur. Deltagerne kan så tage stilling til om de vil deltage på den tur.\nDeltagerne kan aflyse deres deltagelse frem til turstart. Alle betalinger refunderes.\nHvis Fritidskajakker aflyser turen bliver alle betalinger refunderet.\nNår du bestiller turen\, reserverer NETS beløbet på din konto. Fritidskajakker hæver først betalingen når turen er gennemført.\nSpørgsmål: skriv til info@fritidskajakker.dk eller sms på 30717225.
URL:https://www.fritidskajakker.dk/oplevelser/kajaktur-paa-arresoe-foerste-sommertur-2/
LOCATION:Ramløse Havn\, Søkrogvej 61\, Helsinge\, 3200\, Denmark
CATEGORIES:Guidede kajakture,Kajakture
ATTACH;FMTTYPE=image/jpeg:https://www.fritidskajakker.dk/wp-content/uploads/2026/02/Arresoe-1.jpg
ORGANIZER;CN="Fritidskajakker":MAILTO:info@fritidskajakker.dk
END:VEVENT
BEGIN:VEVENT
DTSTART;TZID=Europe/Copenhagen:20260605T140000
DTEND;TZID=Europe/Copenhagen:20260607T160000
DTSTAMP:20260422T121310
CREATED:20251121T202355Z
LAST-MODIFIED:20260215T151628Z
UID:10000409-1780668000-1780848000@www.fritidskajakker.dk
SUMMARY:Kajaktur i Järnavik Blekinge Skærgård
DESCRIPTION:Guidet weekendkajaktur i Blekinge Skærgård\, i fjorden ved Järnavik. \nJärnavik kajakturen er blevet vores klassisker. Det er en smuk kajaktur\, som alle kan være med på. Vi kan nå 2 helsdagsture og en halvdagstur inden vi kører hjem om søndagen. \nWeekendkajakturen byder på 2 heldagsture og en halvdagstur i et smukt og skærmet skærgårdsområde \nTurene bliver tilrettelagt efter vejret\, især vinden. Järnavik fjorden ligger beskyttet af lange halvøer både mod øst og vest\, så inde i skærgårdsområdet er der relativt roligt vand selv ved frisk vind. \nJärnavik skærgården er et smukt\, grønt område med masser af øer\, skær og fjorde at ro rundt i – det perfekte sted for begyndere og for kajakroere\, der vil opleve frodig skærgårdsnatur i roligt farvand. \nMidt i skærgården ligger Tjärö – en stor ø med vandrehjem\, kiosk og restaurant. Der sejler regelmæssig rutebåd fra Järnavik til Tjärö. Vi bruger Tjärö som pause og frokost ø. \nDeltagerne kan ro i deres egne kajakker eller leje kajakker til turen. \nPrisen dækker deltagelse i de guidede ture i egen eller lejet kajak. \nVi bor på Magasinet \nUnder opholdet bor vi på Magasinet i Järnavik\,  et stort hus med 6 to-personers værelser og et køkken-alrum\, hvor vi kan lave fælles morgen- og aftensmad. Dertil kommer en stort udendørs terrasse\, som er stedet hvor oftest spiser.  Vi kan skaffe flere værelser i et anneks til Magasinet. Hvis deltagere heller vil bo på campingsplads kan de bo på campingpladsen ved Järnavik havn og spise med resten af selskabet på Magasinet. \nVi råder over Magasinet fra torsdag aften\, så deltagere\, der kan holde fri Grundlovsdag\, kan ankomme torsdag aften og dermed få 2 hele dagsture fredag og lørdag – og en halvdagstur søndag. \nOphold koster 220 kr pr nat i delt dobbeltværelse\, 440 kr i enkeltværelse ved ophold i 3 nætter. \nVed ophold 2 nætter koster det 320 kr pr nat i delt dobbeltværelse og 640 i enkeltværelse. \nOvernatning er inkl sengetøj og håndklæder og betales særskilt\, \nMail jeres ønske til ophold på info@fritidskajakker.dk\, så booker vi. (Vi skal opkræve dansk moms hvis vi tilbyder bookning via webshoppen). \nVi spiser morgen- og aftensmad sammen. Betaling for dette er særskilt\, når vi har fundet ud af hvad det koster\, men regn med max 70 kr pr dag. Alle klarer selv madpakker og snacks. \nVi er behjælpelige med at arrangere fælleskørsel til Järnavik\, så deltagere kan deles om transportomkostninger. \nDeltagerforudsætninger: \n\nDeltagerne skal have roet nogle ture i havkajak inden denne tur\, primært for at sikre at vi har nogenlunde ensartede kræfter til turene.\nForvent at dagsturene er på 20-25 km\, halvdagsturen søndag tilsvarende kortere\, mellem 10 og 15 km.\nVi holder flere pauser på hver tur\, så der er mulighed for at strække benene og spise undervejs.\nDer er ingen krav til IPP2 eller lign certifikater for at deltage.\n\nSikkerhed. \n\nDet er en guidet tur\, så Fritidskajakker sørger for sikkerheden. Der kræves ikke IPP kursusbevis eller tilsvarende.\nVi tilrettelægger hver tur efter vejret\, primært vindstyrke og vindretning og vi har mulighed for at splitte op i to grupper med forskelligt tempo og forskellig lyst til åbent vand/længere kryds.\nVi skal ro samlet\, så turlederne kan overskue gruppen og vi kan hjælpe hinanden\, hvis det bliver nødvendigt. Det betyder også at turledernes anvisninger skal følges.\n\nAflysning \n\nFritidskajakker kan aflyse turen frem til 2. juni hvis vejrudsigten melder om for meget blæst (over 5 m/s) eller for meget regn. Alle betalinger refunderedes og Fritidskajakker betaler annullering af værelser.\nDeltagerne kan aflyse deres deltagelse frem til turstart. Betaling til Fritidskajakker refunderes\, men forvent en afbestillingsbetaling til værelset på Magasinet.\n\nDeltagerne kan ro i egne eller lejede kajakker. \n\nNår du ror i din egen kajak forventer vi at du har det udstyr med som du behøver til dagsture. Hvis du ikke har pumpe og paddlefloat\, så køb det ikke. Der vil være rigeligt blandt hele gruppen. Du kan få din kajak transporteret med trailer til Järnavik .\nStandard udlejningskajakker er til den stabile side og kommer med alt udstyr du behøver\, pagaj\, spraydeck\, vandtæt pose og evt paddlefloat og pumpe. Vi kontakter dig vedr størrelse på kajakken og kajakken transporteres til Vindön på vores trailer.\nDelta udlejningskajakker er lidt dyrere at leje. De er meget komfortable og lette at ro. De er dog lidt smallere end standard udlejningskajakker. De kommer med samme udstyr som standard kajakkerne. Vi kontakter dig vedr størrelse på kajakken og kajakken transporteres til Vindön på vores trailer.\n\nProgram \nTorsdag \n\nAnkomst\, indkvartering og fællesspisning – en tur ned til Järnavik havn og evt en kort aftentur.\n\nFredag \n\nFredagsturen er en heldagstur for deltagere\, der er ankommet torsdag. Vi ror fra Järnavik havn til Tjärö og holder den første pause der. Afhængigt af vinden bliver den videre tur enten langs vestkysten ned til Kroksvik eller langs østkysten ved Svalemåla til Gyö.\nFritidskajakkers trailer kan bruges til opbevaring af kajakkerne på Järnavik havn.\n\nLørdag \n\nLørdagsturen er også en heldagstur. Afhængigt af vind og hvor vi har roet fredag\, kan turen gå rundt om Gyön til Biskopsmåla naturreservat eller runde Kroksvik og ro mod vest forbi Mjöo til Joggesö.\n\nSøndag \n\nSøndag er hjemrejsedag\, så turen bliver tilrettelagt – igen efter vind og vindstyrke – så turen slutter senest kl 15 og det derefter er hurtigt at køre hjem. Fritidskajakker kan tage kajakkerne med hjem på traileren.\n\n  \nMail til info@fritidskajakker.dk hvis du ønsker flere oplysninger og har spørgsmål til turen. \n  \n 
URL:https://www.fritidskajakker.dk/oplevelser/kajaktur-i-jarnavik-blekinge-skaergaard/
LOCATION:Järnavik\, Järnaviksvägen 80\, Bräkne Hoby\, 372 63\, Sweden
CATEGORIES:Guidede kajakture,Kajakture
ATTACH;FMTTYPE=image/jpeg:https://www.fritidskajakker.dk/wp-content/uploads/2025/11/Jarnavik-2026-B.jpg
ORGANIZER;CN="Fritidskajakker":MAILTO:info@fritidskajakker.dk
END:VEVENT
END:VCALENDAR