BEGIN:VCALENDAR
VERSION:2.0
PRODID:-//fritidskajakker - ECPv6.15.20//NONSGML v1.0//EN
CALSCALE:GREGORIAN
METHOD:PUBLISH
X-ORIGINAL-URL:https://www.fritidskajakker.dk
X-WR-CALDESC:Begivenheder for fritidskajakker
REFRESH-INTERVAL;VALUE=DURATION:PT1H
X-Robots-Tag:noindex
X-PUBLISHED-TTL:PT1H
BEGIN:VTIMEZONE
TZID:Europe/Copenhagen
BEGIN:DAYLIGHT
TZOFFSETFROM:+0100
TZOFFSETTO:+0200
TZNAME:CEST
DTSTART:20250330T010000
END:DAYLIGHT
BEGIN:STANDARD
TZOFFSETFROM:+0200
TZOFFSETTO:+0100
TZNAME:CET
DTSTART:20251026T010000
END:STANDARD
BEGIN:DAYLIGHT
TZOFFSETFROM:+0100
TZOFFSETTO:+0200
TZNAME:CEST
DTSTART:20260329T010000
END:DAYLIGHT
BEGIN:STANDARD
TZOFFSETFROM:+0200
TZOFFSETTO:+0100
TZNAME:CET
DTSTART:20261025T010000
END:STANDARD
BEGIN:DAYLIGHT
TZOFFSETFROM:+0100
TZOFFSETTO:+0200
TZNAME:CEST
DTSTART:20270328T010000
END:DAYLIGHT
BEGIN:STANDARD
TZOFFSETFROM:+0200
TZOFFSETTO:+0100
TZNAME:CET
DTSTART:20271031T010000
END:STANDARD
END:VTIMEZONE
BEGIN:VEVENT
DTSTART;TZID=Europe/Copenhagen:20260616T100000
DTEND;TZID=Europe/Copenhagen:20260616T150000
DTSTAMP:20260422T150732
CREATED:20260224T132700Z
LAST-MODIFIED:20260224T134022Z
UID:10000445-1781604000-1781622000@www.fritidskajakker.dk
SUMMARY:Kajaktur Holbæk - Bognæs - Orø
DESCRIPTION:Turen går fra Holbæk Marina til Bognæs på Tuse Næs og op til Løserup Strand hvor vi holder den første pause. Herfra krydser vi Isefjorden over til Orø og ror ned til Bybjerg Havn\, hvor vi holder frokost. Fra Bybjerg Havn ror vi forbi Kirsebærholmen tilbage til Holbæk Marina. \nDenne tur har 3 kryds der er mellem 1 og 2 km lange. Resten af turen er kystnær og turen er generelt på lavt vand. \nVi holder pause ved Løserup Strand og frokost på Bybjerg Havn \nMålgruppe: \n\nAlle der har roet i kajak kan deltage. Har du aldrig roet kajak\, så start med ”min første kajaktur”.\nTuren er en oplevelsestur i moderat tempo og med en sværhedsgrad på 1 – 2 ud af 3 (hvor 3 er sværest). Årsagen til sværhedsgrad 2 er at vinden kan drille når vi skal krydse Holbæk og Isefjord.\n\nTurens længde er ca 16 km – kan forlænges til 20 km hvis vejret er godt \nAlternativ tur hvis vinden driller: Munkholm til Dragerup \nIsætning: \n\nIsætning er fra kajakbro i Holbæk Marina og Bybjerg Havn.\nIsætning på Løserup Strand er fra strand.\n\nTider: \n\n9.30: kom og få dit udstyr og indstil kajakken\, hvis du har lejet en kajak til turen\n9.45: kom og sæt din kajak\, hvis du har egen kajak med\n10.00: turbriefing\, præsentationsrunde og en kop kaffe med en croissant\n10.30: vi ror ud af havnen\n\nFaciliteter: \n\nHolbæk Marina: god parkering og toilet\nBybjerg Havn: borde og bænke samt toilet\nLøserup strand: masser af buske\n\nBeklædning: \n\nDeltagere i lejet kajak: Du får udleveret svømmevest\, vandtæt pose\, neoprensko og handsker. Har du neopren våddragt\, – bluse eller -bukser\,  benytter du selvfølgelig det. Ellers kom i sportstøj\, lag på lag og yderst en vindbreaker eller regnjakke og regnbukser – samt en sweater eller lign. til frokostpausen.\nDeltagere i egne kajakker: kom i hvad du finder hensigtsmæssigt og medbring en sweater ell. lign til frokostpausen.\n\nUdlejningskajakker: \n\nStandard udlejningskajakker er brede\, stabile plasthavkajakker som fx. Buran 430 til roere op til 1.70 i højden\, FIT 147 til højere roere op til 185\, Nifty 440 til højere roere op til 195 og Buran 488 til roere over 195 og vægt over 120 kg.\nFritidskajakker og tandemkajakker kan benyttes på denne tur.\nDelta kajakker er til roere der vil have en lettere og mere komfortabel havkajak\, som ikke kræver så mange kræfter\, men til gengæld er lidt smallere end de almindelige plastkajakker. Du kan vælge mellem Delta 14\, 15s\, 16 og 17\n\nPraktisk: \n\nAlle tilmeldte får en mere detaljeret turbeskrivelse og sikkerhedsinstruks senest dagen før turen.\nTuren gennemføres kun i godt vejr\, dvs vind under 4 m/s\, ingen heldagsregn og ikke udsigt til tordenvejr.\nHvis vindretningen betyder at det bliver en sværere tur\, kan Fritidskajakker tilbyde den alternative tur. Deltagerne kan så tage stilling til om de vil deltage på den tur.\nDeltagerne kan aflyse deres deltagelse frem til turstart. Alle betalinger refunderes.\nHvis Fritidskajakker aflyser turen bliver alle betalinger refunderet.\nNår du bestiller turen\, reserverer NETS beløbet på din konto. Fritidskajakker hæver først betalingen når turen er gennemført.\nSpørgsmål: skriv til info@fritidskajakker.dk eller sms på 30717225.
URL:https://www.fritidskajakker.dk/oplevelser/kajaktur-holbaek-bognaes-oroe/
LOCATION:Holbæk Marina\, Strandmøllevej 249\, Holbæk\, 4300
CATEGORIES:Guidede kajakture,Kajakture
ATTACH;FMTTYPE=image/jpeg:https://www.fritidskajakker.dk/wp-content/uploads/2024/02/Holbaek-Fjord-2-16aug23.jpg
ORGANIZER;CN="Fritidskajakker":MAILTO:info@fritidskajakker.dk
END:VEVENT
BEGIN:VEVENT
DTSTART;TZID=Europe/Copenhagen:20260618T100000
DTEND;TZID=Europe/Copenhagen:20260618T130000
DTSTAMP:20260422T150732
CREATED:20260220T161826Z
LAST-MODIFIED:20260220T161826Z
UID:10000437-1781776800-1781787600@www.fritidskajakker.dk
SUMMARY:Min første kajaktur
DESCRIPTION:Er du nysgerrig efter at prøve at ro kajak ? \n”Min første kajaktur” er for begyndere\, der aldrig har siddet i en kajak – eller måske har lejet en sit-on-top kajak på en badestrand sydpå. \nVi tager dig med ud på en kajaktur på Roskilde Fjord\, så du kan prøve både naturoplevelsen\, motionen og det sociale liv på en kajaktur. \nPå “Min første kajaktur” viser vi dig hvordan du styrer og bremser kajakken\, hvordan du kommer ned i kajakken og op igen og hvordan du får en rimelig fart på kajakken.  Du får en stabil kajak\, så du skal ikke prøve kæntring og redning på denne tur. \nDu behøver ingen forudsætninger\, ingen kurser\, ingen svømmeprøver – blot lysten til at prøve at komme på vandet i en kajak. \nNår du har deltaget på en eller flere ”min første kajaktur”  kan du tage med på guidede kajakture\, vælge at tage et introduktionskursus\, melde dig ind i en kajakklub – eller du har fundet ud af at det ikke er noget for dig. \n\nHver tur varer 3 timer  og der er max 4 deltagere pr tur.\nVi starter og slutter fra Roskilde Sejlklub\, Strandgade 12\, hvor der er toilet og omklædningsrum.\nTuren gennemføres kun i godt vejr\, dvs vind max 4 m/s og ingen regn.\nDu kan aflyse frem til turstart og får din bestilling tilbagebetalt\nFritidskajakker kan aflyse en dag før turstart og du får din bestilling tilbagebetalt.\n\nSpørgsmål: mail til info@fritidskajakker.dk
URL:https://www.fritidskajakker.dk/oplevelser/min-foerste-kajaktur-9/
LOCATION:Roskilde Sejlklub\, Strandgade 12\, Roskilde\, 4000\, Danmark
CATEGORIES:Guidede kajakture,Kajakkurser,Kajakture,Prøv en kajak - events
ATTACH;FMTTYPE=image/jpeg:https://www.fritidskajakker.dk/wp-content/uploads/2026/01/Din-foerste-kajaktur-2-scaled.jpg
ORGANIZER;CN="Fritidskajakker":MAILTO:info@fritidskajakker.dk
END:VEVENT
BEGIN:VEVENT
DTSTART;TZID=Europe/Copenhagen:20260619T180000
DTEND;TZID=Europe/Copenhagen:20260619T210000
DTSTAMP:20260422T150732
CREATED:20260223T150817Z
LAST-MODIFIED:20260223T162624Z
UID:10000440-1781892000-1781902800@www.fritidskajakker.dk
SUMMARY:Kajaktur fredag aften på fjorden
DESCRIPTION:Vi arrangerer ”ro med” kajaktur de fleste fredag aften i sommerperioden. En “ro med” er ikke en guidet tur\, så vi ror som en privat gruppe\, der hjælper hinanden hvis det blir nødvendigt. \nTurene er uformelle\, vi skal ikke nå noget bestemt\, blot nyde en fredag aften på fjorden i godt selskab. \nTurene starter fra Roskilde Sejlklub eller Veddelev havn kl 18 med forventet sluttid omring kl 21. Turene er fyraftensture\, hvor vi spiser undervejs\, enten på Roskilde Camping plads eller inde i Kattinge Vig. \nDenne tur starter fra Veddelev Havn \nPå denne tur ror vi fra Veddelev Havn til Kattinge værk\, hvor vi spiser et let aftensmåltid. Vi køber ind til aftensmåltidet. Turen til Kattinge Værk er på ca 5 km hver vej. Efter vi har spist kan vi ro videre op i Kattinge Vig\, afhængigt af hvor lang en tur man vi have. Vi kan enten ro samlet eller splitte op i grupper afhængigt af tempo og retning. \nTuren er gratis for deltagere med egen kajak. Man kan leje en kajak til turen. Den vil så stå klar med svømmevest og andet udstyr kl kl 18 i Veddelev Havn. Tandemkajakkerne kan bruges til en voksen og et stort barn eller to teengere (eller ældre). \nTuren vil ialt være på mellem 10 og 15 km. \nAlle\, der har roet i kajak\, kan deltage –  så det er ikke “en første tur” i kajak\, men man kan ro både havkajak\, fritidskajak og tandemkajak. \nSpisning ved Kattinge Værk betales særskilt. \nDer er toiletter i Veddelev Havn men kun buske ved Kattinge Værk \nTurene aflyses hvis det blæser for meget eller hvis det bliver regnvejr. \nTilmelding og afmeldig er nødvendig for at vi har overblik over antal deltagere.
URL:https://www.fritidskajakker.dk/oplevelser/kajaktur-fredag-aften-paa-fjorden-2/
LOCATION:Veddelev Havn\, Fiskervejen 75\, Roskilde\, 4000\, Danmark
CATEGORIES:Kajakture
ATTACH;FMTTYPE=image/jpeg:https://www.fritidskajakker.dk/wp-content/uploads/2026/01/Langs-vestskoven-20250826_134715-scaled-e1769555725723.jpg
ORGANIZER;CN="Fritidskajakker":MAILTO:info@fritidskajakker.dk
END:VEVENT
END:VCALENDAR