BEGIN:VCALENDAR
VERSION:2.0
PRODID:-//fritidskajakker - ECPv6.15.20//NONSGML v1.0//EN
CALSCALE:GREGORIAN
METHOD:PUBLISH
X-ORIGINAL-URL:https://www.fritidskajakker.dk
X-WR-CALDESC:Begivenheder for fritidskajakker
REFRESH-INTERVAL;VALUE=DURATION:PT1H
X-Robots-Tag:noindex
X-PUBLISHED-TTL:PT1H
BEGIN:VTIMEZONE
TZID:Europe/Copenhagen
BEGIN:DAYLIGHT
TZOFFSETFROM:+0100
TZOFFSETTO:+0200
TZNAME:CEST
DTSTART:20240331T010000
END:DAYLIGHT
BEGIN:STANDARD
TZOFFSETFROM:+0200
TZOFFSETTO:+0100
TZNAME:CET
DTSTART:20241027T010000
END:STANDARD
BEGIN:DAYLIGHT
TZOFFSETFROM:+0100
TZOFFSETTO:+0200
TZNAME:CEST
DTSTART:20250330T010000
END:DAYLIGHT
BEGIN:STANDARD
TZOFFSETFROM:+0200
TZOFFSETTO:+0100
TZNAME:CET
DTSTART:20251026T010000
END:STANDARD
BEGIN:DAYLIGHT
TZOFFSETFROM:+0100
TZOFFSETTO:+0200
TZNAME:CEST
DTSTART:20260329T010000
END:DAYLIGHT
BEGIN:STANDARD
TZOFFSETFROM:+0200
TZOFFSETTO:+0100
TZNAME:CET
DTSTART:20261025T010000
END:STANDARD
END:VTIMEZONE
BEGIN:VEVENT
DTSTART;TZID=Europe/Copenhagen:20250902T093000
DTEND;TZID=Europe/Copenhagen:20250902T140000
DTSTAMP:20260421T121207
CREATED:20250829T203839Z
LAST-MODIFIED:20250830T093926Z
UID:10000394-1756805400-1756821600@www.fritidskajakker.dk
SUMMARY:Kajaktur langs Stevns Klint
DESCRIPTION:Kajaktur fra Bøgeskoven ned langs Stevns Klint \nSmuk kajaktur langs Stevns Klint i godt vejr. Vi håber vejrudsigten holder med 19-22 graders varme og sydlig vind på omkring 2 – 3 m/s. Vi starter derfor lidt tidligere: kl 9.30. Det kan bliver en smuk start på efterårsturene. \nDeltagerne skal ro i havkajak og føle sig tilpas med lidt dønninger. fra Østersøen. Vinden er fra sydlige retninger\, så vindbølgerne vil være enten mod os eller med os – turen bliver dog kun gennemført hvis vi vurderer at vind og bølger ikke er udfordrende. \nDenne tur starter fra stranden ved Bøgeskov havn og vi ror kystnmært. Efter de første kilometer sydpå kommer vi til klinten og ror så langt langs med klinten mod Stevns Fyr som tiden tillader\, inden vi holder frokostpause og vender om – og får medvind tilbage til Bøgeskoven. \nMarianne Jenlar er turguide på denne tur og kender turen langs klinten godt – og kan derfor at stoppe os\, hvor der er godt at holde småpauser undervejs og evt ro ind på stranden i et privat ærende. Hun finder et egnet sted at gå i land og holde frokostpause. \nDeltagerne kan ro i egen eller lejet kajak. Deltagere i lejede kajakker får udleveret svømmevest\, vandtæt pose og neoprensko\, hvis man selv har egnede sko. \nBeklædning: vær opmærksom på ret høj luft temperatur – så sportstøj\, lag på lag – dvs inderbluse\, mellembluse i fx fleece og en vindbreaker yderst. op. Har man neopren våpddragt\, bluse eller bukser kan man selvfølgelig benytte det. Medbring skiftetøj \nMedbring vand og/eller kaffe og en madpakke. \nMødested: Stranden ved Bøgeskov Havn. Kom gerne kl 9.30 og pak ud\, så vi kan mødes\, præsentere os selv og få Marianne’s oplæg til turen. \nTuren aflyses ved dårligt vejr\, dvs regnvejr eller blæsevejr over 4 m/s. Deltagere kan aflyse indtil turstart. Alle betalinger returneres. \nSpørgsmål: skriv til info@fritidskajakker.dk eller sms på 30717225 \n  \n  \n  \n  \n  \n  \n  \n 
URL:https://www.fritidskajakker.dk/oplevelser/kajaktur-langs-stevns-klint-2/
LOCATION:Bøgeskov Havn\, Bøgeskovvej 6a\, Store Heddinge\, 4660
CATEGORIES:Guidede kajakture
ATTACH;FMTTYPE=image/jpeg:https://www.fritidskajakker.dk/wp-content/uploads/2025/08/Stevns-Klint.jpg
ORGANIZER;CN="Fritidskajakker":MAILTO:info@fritidskajakker.dk
END:VEVENT
BEGIN:VEVENT
DTSTART;TZID=Europe/Copenhagen:20250907T100000
DTEND;TZID=Europe/Copenhagen:20250907T170000
DTSTAMP:20260421T121207
CREATED:20250903T190805Z
LAST-MODIFIED:20250903T200008Z
UID:10000395-1757239200-1757264400@www.fritidskajakker.dk
SUMMARY:Søndagstur: kajaktur Veddelev til Gershøj og tilbage
DESCRIPTION:Lokket af den gode vejrudsigt arrangerer vi en søndags kajaktur fra Veddelev til Gershøj\, så vi kan nyde det lune septembervejr og solskin midt på dagen. DMI forventer svag vind omkring 2 m/s fra sydlige retninger på det meste af turen. \nTuren vil største delen af tiden være i læ af Bognæs og Vestskoven\, med et kort kryds fra Veddelev til Bognæs og et kort kryds over revet nord for Vestskov til Gershøj. \nVi mødes til briefingmøde (skippermøde) kl 10.00 og forventer at ro ud på fjorden kl 10.15. Forventet hjemkomst til Veddelev Havn  er kl 15.00. Vi spiser medbragt frokost på Gershøj Havn. Vi har et par pauser undervejs både ud og hjem. Der er offentlig toiletter på Gershøj Havn. \nTuren vil være på godt 14 km. Forvent en gennemsnitfart på 4 km/t med oauser undervejs. \nTuren er tilrettelagt for roere i havkajakker. Let øvede er velkomne fordi der er svag vind – vær blot opnærksomme på turlængden. \nDet blir en flot  søndagstur med udsigt til skovene og engene ved Bognæs og mod nord til Eskildsø og Sønderby området.
URL:https://www.fritidskajakker.dk/oplevelser/soendagstur-kajaktur-veddelev-til-gershoej-og-tilbage/
LOCATION:Veddelev Havn\, Fiskervejen 75\, Roskilde\, 4000\, Danmark
CATEGORIES:Guidede kajakture
ATTACH;FMTTYPE=image/jpeg:https://www.fritidskajakker.dk/wp-content/uploads/2025/09/LR--scaled.jpg
ORGANIZER;CN="Fritidskajakker":MAILTO:info@fritidskajakker.dk
END:VEVENT
END:VCALENDAR