BEGIN:VCALENDAR
VERSION:2.0
PRODID:-//fritidskajakker - ECPv6.15.20//NONSGML v1.0//EN
CALSCALE:GREGORIAN
METHOD:PUBLISH
X-ORIGINAL-URL:https://www.fritidskajakker.dk
X-WR-CALDESC:Begivenheder for fritidskajakker
REFRESH-INTERVAL;VALUE=DURATION:PT1H
X-Robots-Tag:noindex
X-PUBLISHED-TTL:PT1H
BEGIN:VTIMEZONE
TZID:Europe/Copenhagen
BEGIN:DAYLIGHT
TZOFFSETFROM:+0100
TZOFFSETTO:+0200
TZNAME:CEST
DTSTART:20240331T010000
END:DAYLIGHT
BEGIN:STANDARD
TZOFFSETFROM:+0200
TZOFFSETTO:+0100
TZNAME:CET
DTSTART:20241027T010000
END:STANDARD
BEGIN:DAYLIGHT
TZOFFSETFROM:+0100
TZOFFSETTO:+0200
TZNAME:CEST
DTSTART:20250330T010000
END:DAYLIGHT
BEGIN:STANDARD
TZOFFSETFROM:+0200
TZOFFSETTO:+0100
TZNAME:CET
DTSTART:20251026T010000
END:STANDARD
BEGIN:DAYLIGHT
TZOFFSETFROM:+0100
TZOFFSETTO:+0200
TZNAME:CEST
DTSTART:20260329T010000
END:DAYLIGHT
BEGIN:STANDARD
TZOFFSETFROM:+0200
TZOFFSETTO:+0100
TZNAME:CET
DTSTART:20261025T010000
END:STANDARD
END:VTIMEZONE
BEGIN:VEVENT
DTSTART;TZID=Europe/Copenhagen:20250511T090000
DTEND;TZID=Europe/Copenhagen:20250511T140000
DTSTAMP:20260420T102025
CREATED:20240819T144827Z
LAST-MODIFIED:20250311T121958Z
UID:10000350-1746954000-1746972000@www.fritidskajakker.dk
SUMMARY:Sælsafari i kajak på Avnø Fjord
DESCRIPTION:Sælsafari i kajak på Avnø fjord er en naturoplevelse\, hvor vi kommer til at se sæler\, forhåbentlig mange sæler. Vi ror ud til en stor koloni af spættet sæl\, lader sælerne komme til os og glider stille gennem området så vi kan se så mange sæler som muligt. \nKajakturen starter og slutter på Avnø Naturcenter ved Vordingborg. \nAlle kan deltage på denne tur\, blot man har prøvet at ro kajak tidligere. Store børn kan deltage i en 2’er kajak sammen med en voksen. \nTuren er kun på ca. 10 km\, start kl 9.00 og forventet sluttid kl 14. \nTuren gennemføres kun i godt vejr\, ellers kan vi ikke se sælerne. \nTuren starter med formiddagskaffe/the og croissanter kl 9 i Avnø Naturcenter. Vi sørger for kaffe/the og croissanter.\nKl 9.00 til 9.30 giver naturvejleder Ivan Ingemansen en introduktion til naturen omkring Avnø fjord og dyrelivet på fjorden – også om sælerne.\nEfter introduktionen trækker vi kajakkerne fra Naturcenteret til fjorden og ror ud forbi sælkolonien til Knudshoved Odde på den anden side af Avnø Fjord\, hvor vi går i land og spiser frokost på stranden.\nEfter frokost sejler vi langs Knudhoved Odde ind mod sæl kolonien og sejler den anden vej rundt om sælerne tilbage til Avnø Naturcenter. \nLæs mere på Ivan Ingemansens naturblog:   og  Avnø Naturcenter \nPraktisk: \nDer er toiletter på Avnø Naturcenter\, men kun buske på Knudhoved Odde.\nStart og landgang er på stranden. Medbring kajakvogn hvis du ror i egen kajak – der er langt fra Naturcenteret til standen.\nDeltagerne skal medbringe al mad\, snacks og drikkevarer til frokosten. Der kan tappes vand på naturcenteret.\nVi skal holde en afstand på 250 m til sælerne\, så vær opmærksom på at billeder med mobiltelefon måske ikke blir så gode.\nRegn med ca 1½ times kørsel fra København. \nDeltagerforudsætninger:  \nDet er en let kajaktur og al sejlads er meget kystnær. Deltagerne skal have roet i kajak\, så alle kan styre kajakken. Vi sejler langsomt for at se så mange dyr som muligt. Turen kan sejles både med fritidskajak\, havkajak og tandem/2’er kajak. \nEgen kajak / lejet kajak:\nAlle kan deltage i egen kajak. Man kan også leje en kajak til turen\, det koster 225 kr og er inkl svømmevest\, kajakvogn og vandtæt pose til tørt tøj. Vi kontakter dig\, så vi finder en kajak\, der passer til dig \nKajakkerne pakkes til sælsafari \nVi ror mod sælkolonien \nDe første sæler spottes \nVi driver mod sælkolonien \nSælerne dukker up blandt kajakkerne \nFrokostpause på Knuds Odde
URL:https://www.fritidskajakker.dk/oplevelser/saelsafari-i-kajak-paa-avnoe-fjord-3/
LOCATION:Avnø Naturcenter\, Flyvervej 40\, Lundby\, 4750\, Danmark
CATEGORIES:Guidede kajakture
ATTACH;FMTTYPE=image/jpeg:https://www.fritidskajakker.dk/wp-content/uploads/2023/03/Saelsafari_forside-maj23.jpg
ORGANIZER;CN="Fritidskajakker":MAILTO:info@fritidskajakker.dk
END:VEVENT
BEGIN:VEVENT
DTSTART;TZID=Europe/Copenhagen:20250513T093000
DTEND;TZID=Europe/Copenhagen:20250513T130000
DTSTAMP:20260420T102025
CREATED:20240126T134501Z
LAST-MODIFIED:20250311T092146Z
UID:10000078-1747128600-1747141200@www.fritidskajakker.dk
SUMMARY:Senior kajaktur på Roskilde Fjord
DESCRIPTION:Kajaktur fra Roskilde Sejlklub til Vigen Strandpark \nTuren er kystnær langs vest og østsiden af Roskilde Fjord\, det meste af tiden på lavt vand. Turen er en opstartstur både for begyndere og for øvede\, så den foregår i stille og roligt tempo med plads til at snakke og nyde at være på fjorden. \nVi starter og slutter sammen\, men de øvede kajakroere ror en længere strækning end nybegynderne. \nVi holder frokostpause på Vigen Strandpark\, hvor der er borde og bænke samt toiletter\, og ror derpå tilbage til Roskilde Sejlklub. \nNybegyndere starter med en briefing og vejledning kl 9.30\, Øvede kommer kl 10 uanset om det er i egen eller lejet kajak. Forvent at vi er på vandet ca 10.15 \nDeltagere i lejede kajakker får udleveret svømmevest\, neoprensko og handsker. Husk solcreme og hat/kasket og medbring vand og/eller kaffe og en madpakke. \nBeklædning: sportstøj\, lag på lag – dvs inderbluse\, mellembluse i fx fleece og en vindbreaker yderst samt regnbukser. Har man neopren våpddragt\, bluse eller bukser benytter man selvfølgelig det. \nMedbring skiftetøj fordi man blir våd af vandsprøjt. Vi har vandtætte poser til tøjet. \nDeltagerne kan vælge mellem fritidskajak\, havkajak eller tandem fritidskajak. \nMødested: Roskilde Sejlklub (parkering på gruspladsen ved vandrehjemmet eller ved Vikingeskibsmuseet) \nNybegyndere mødes kl 9.30. Øvede mødes kl 10.00. Vi er på vandet 10.15 – 10.30 \nTuren aflyses ved dårligt vejr\, dvs regnvejr eller blæsevejr over 4 m/s. Alle betalinger returneres. \nDer er adgang til toiletter i Roskilde Sejlklub og Vigen Strandpark. \nSpørgsmål: skriv til info@fritidskajakker.dk eller sms på 20684358
URL:https://www.fritidskajakker.dk/oplevelser/senior-kajaktur-paa-roskilde-fjord/
LOCATION:Roskilde Sejlklub\, Strandgade 12\, Roskilde\, 4000\, Danmark
CATEGORIES:Guidede kajakture
ORGANIZER;CN="Fritidskajakker":MAILTO:info@fritidskajakker.dk
END:VEVENT
BEGIN:VEVENT
DTSTART;TZID=Europe/Copenhagen:20250522T093000
DTEND;TZID=Europe/Copenhagen:20250522T133000
DTSTAMP:20260420T102025
CREATED:20250311T092933Z
LAST-MODIFIED:20250506T202201Z
UID:10000355-1747906200-1747920600@www.fritidskajakker.dk
SUMMARY:Senior kajaktur på Roskilde Fjord
DESCRIPTION:Kajaktur fra Roskilde Sejlklub til Vigen Strandpark \nTuren er kystnær langs vest og østsiden af Roskilde Fjord\, det meste af tiden på lavt vand. Turen er en opstartstur både for begyndere og for øvede\, så den foregår i stille og roligt tempo med plads til at snakke og nyde at være på fjorden. \nVi starter og slutter sammen\, men de øvede kajakroere ror en længere strækning end nybegynderne. \nVi holder frokostpause på Vigen Strandpark\, hvor der er borde og bænke samt toiletter\, og ror derpå tilbage til Roskilde Sejlklub. \nNybegyndere starter med en briefing og vejledning kl 9.30\, Øvede kommer kl 10 uanset om det er i egen eller lejet kajak. Forvent at vi er på vandet ca 10.15 \nDeltagere i lejede kajakker får udleveret svømmevest\, neoprensko og handsker. Husk solcreme og hat/kasket og medbring vand og/eller kaffe og en madpakke. \nBeklædning: sportstøj\, lag på lag – dvs inderbluse\, mellembluse i fx fleece og en vindbreaker yderst samt regnbukser. Har man neopren våpddragt\, bluse eller bukser benytter man selvfølgelig det. \nMedbring skiftetøj fordi man blir våd af vandsprøjt. Vi har vandtætte poser til tøjet. \nDeltagerne kan vælge mellem fritidskajak\, havkajak eller tandem fritidskajak. \nMødested: Roskilde Sejlklub (parkering på gruspladsen ved vandrehjemmet eller ved Vikingeskibsmuseet) \nNybegyndere mødes kl 9.30. Øvede mødes kl 10.00. Vi er på vandet 10.15 – 10.30 \nTuren aflyses ved dårligt vejr\, dvs regnvejr eller blæsevejr over 4 m/s. Alle betalinger returneres. \nDer er adgang til toiletter i Roskilde Sejlklub og Vigen Strandpark. \nSpørgsmål: skriv til info@fritidskajakker.dk eller sms på 20684358
URL:https://www.fritidskajakker.dk/oplevelser/senior-kajaktur-paa-roskilde-fjord-2/
LOCATION:Roskilde Sejlklub\, Strandgade 12\, Roskilde\, 4000\, Danmark
CATEGORIES:Guidede kajakture
ORGANIZER;CN="Fritidskajakker":MAILTO:info@fritidskajakker.dk
END:VEVENT
END:VCALENDAR