BEGIN:VCALENDAR
VERSION:2.0
PRODID:-//fritidskajakker - ECPv6.15.20//NONSGML v1.0//EN
CALSCALE:GREGORIAN
METHOD:PUBLISH
X-WR-CALNAME:fritidskajakker
X-ORIGINAL-URL:https://www.fritidskajakker.dk
X-WR-CALDESC:Begivenheder for fritidskajakker
REFRESH-INTERVAL;VALUE=DURATION:PT1H
X-Robots-Tag:noindex
X-PUBLISHED-TTL:PT1H
BEGIN:VTIMEZONE
TZID:Europe/Copenhagen
BEGIN:DAYLIGHT
TZOFFSETFROM:+0100
TZOFFSETTO:+0200
TZNAME:CEST
DTSTART:20250330T010000
END:DAYLIGHT
BEGIN:STANDARD
TZOFFSETFROM:+0200
TZOFFSETTO:+0100
TZNAME:CET
DTSTART:20251026T010000
END:STANDARD
BEGIN:DAYLIGHT
TZOFFSETFROM:+0100
TZOFFSETTO:+0200
TZNAME:CEST
DTSTART:20260329T010000
END:DAYLIGHT
BEGIN:STANDARD
TZOFFSETFROM:+0200
TZOFFSETTO:+0100
TZNAME:CET
DTSTART:20261025T010000
END:STANDARD
BEGIN:DAYLIGHT
TZOFFSETFROM:+0100
TZOFFSETTO:+0200
TZNAME:CEST
DTSTART:20270328T010000
END:DAYLIGHT
BEGIN:STANDARD
TZOFFSETFROM:+0200
TZOFFSETTO:+0100
TZNAME:CET
DTSTART:20271031T010000
END:STANDARD
END:VTIMEZONE
BEGIN:VEVENT
DTSTART;TZID=Europe/Copenhagen:20260626T180000
DTEND;TZID=Europe/Copenhagen:20260626T220000
DTSTAMP:20260419T173106
CREATED:20260223T160446Z
LAST-MODIFIED:20260223T161859Z
UID:10000441-1782496800-1782511200@www.fritidskajakker.dk
SUMMARY:Kajaktur fredag aften på fjorden til Bolund halvø - solnedgangstur
DESCRIPTION:Vi arrangerer ”ro med” kajaktur de fleste fredag aften i sommerperioden. En “ro med” er ikke en guidet tur\, så vi ror som en privat gruppe\, der hjælper hinanden hvis det blir nødvendigt. \nTurene er uformelle\, vi skal ikke nå noget bestemt\, blot nyde en fredag aften på fjorden i godt selskab. \nTurene starter fra Roskilde Sejlklub eller Veddelev havn kl 18 med forventet sluttid omring kl 21-22. Turene er fyraftensture\, hvor vi spiser undervejs\, enten på Roskilde Camping plads\, inde i Kattinge Vig eller på Bolund bakke. \nDenne tur starter fra Roskilde Sejlkub \nPå denne tur ror vi fra Roskilde Sejlklub til Bolund Halvø\, hvor vi spiser et let aftensmåltid på toppen af bakken\, med en fantastisk udsigt mod Vedddelev\, Gershøj og Jyllinge.. Vi medbringer aftensmaden. Turen hertil er på ca 7 – 8 km hver vej. Denne tur er så lang at vi sdandsynligvis ror tilbage når vi spist. \nTuren er gratis for deltagere med egen kajak. Man kan leje en kajak til turen. Den vil så stå klar med svømmevest og andet udstyr kl kl 18 i Roskilde Sejlklub. \nTuren vil ialt være på ca 16-18 km. \nDelagerne skal være rutineret i at ro kajak fordi dette er en længere tur\, så deltagerne skal have kræfter til at ro strækningen med en gennemsnitshastighed på ca 5 km/t – det er alm gennemsnitshastighed for motionister. \nDeltagerne skal ro i havkajak. \nSpisning undervejs betales særskilt. \nDer er toiletter i Roskilde Sejlklub og lave buske på Bolund bakke. \nTurene aflyses hvis det blæser for meget eller hvis det bliver regnvejr. \nTilmelding og afmeldig er nødvendig for at vi har overblik over antal deltagere.
URL:https://www.fritidskajakker.dk/oplevelser/kajaktur-fredag-aften-paa-fjorden-til-bolund-halvoe/
LOCATION:Roskilde Sejlklub\, Strandgade 12\, Roskilde\, 4000\, Danmark
CATEGORIES:Kajakture
ATTACH;FMTTYPE=image/jpeg:https://www.fritidskajakker.dk/wp-content/uploads/2026/02/outdoor-Lise-anette-Helen-20250826_131254-scaled-e1771863095982.jpg
ORGANIZER;CN="Fritidskajakker":MAILTO:info@fritidskajakker.dk
END:VEVENT
END:VCALENDAR